BEGIN:VCALENDAR
VERSION:2.0
PRODID:-//Mairie de Soral - ECPv6.15.20//NONSGML v1.0//EN
CALSCALE:GREGORIAN
METHOD:PUBLISH
X-WR-CALNAME:Mairie de Soral
X-ORIGINAL-URL:https://www.soral.ch
X-WR-CALDESC:Évènements pour Mairie de Soral
REFRESH-INTERVAL;VALUE=DURATION:PT1H
X-Robots-Tag:noindex
X-PUBLISHED-TTL:PT1H
BEGIN:VTIMEZONE
TZID:Europe/Paris
BEGIN:DAYLIGHT
TZOFFSETFROM:+0100
TZOFFSETTO:+0200
TZNAME:CEST
DTSTART:20210328T010000
END:DAYLIGHT
BEGIN:STANDARD
TZOFFSETFROM:+0200
TZOFFSETTO:+0100
TZNAME:CET
DTSTART:20211031T010000
END:STANDARD
BEGIN:DAYLIGHT
TZOFFSETFROM:+0100
TZOFFSETTO:+0200
TZNAME:CEST
DTSTART:20220327T010000
END:DAYLIGHT
BEGIN:STANDARD
TZOFFSETFROM:+0200
TZOFFSETTO:+0100
TZNAME:CET
DTSTART:20221030T010000
END:STANDARD
BEGIN:DAYLIGHT
TZOFFSETFROM:+0100
TZOFFSETTO:+0200
TZNAME:CEST
DTSTART:20230326T010000
END:DAYLIGHT
BEGIN:STANDARD
TZOFFSETFROM:+0200
TZOFFSETTO:+0100
TZNAME:CET
DTSTART:20231029T010000
END:STANDARD
END:VTIMEZONE
BEGIN:VEVENT
DTSTART;VALUE=DATE:20220617
DTEND;VALUE=DATE:20220618
DTSTAMP:20260419T151849
CREATED:20220406T040745Z
LAST-MODIFIED:20220406T040745Z
UID:4729-1655424000-1655510399@www.soral.ch
SUMMARY:Sortie des Ainés
DESCRIPTION:
URL:https://www.soral.ch/evenement/sortie-des-aines/
END:VEVENT
BEGIN:VEVENT
DTSTART;TZID=Europe/Paris:20220614T140000
DTEND;TZID=Europe/Paris:20220614T163000
DTSTAMP:20260419T151849
CREATED:20220422T100652Z
LAST-MODIFIED:20220422T101212Z
UID:4751-1655215200-1655224200@www.soral.ch
SUMMARY:Dessiner au jardin - Grand Potager
DESCRIPTION:Inscriptions et informations : \ninfo@dessin-nomade.ch ou  au 078 886 92 93
URL:https://www.soral.ch/evenement/dessiner-au-jardin-grand-potager/
LOCATION:La Fermette
END:VEVENT
BEGIN:VEVENT
DTSTART;TZID=Europe/Paris:20220613T183000
DTEND;TZID=Europe/Paris:20220613T183000
DTSTAMP:20260419T151849
CREATED:20220304T171857Z
LAST-MODIFIED:20220304T172712Z
UID:4662-1655145000-1655145000@www.soral.ch
SUMMARY:Conseil municipal
DESCRIPTION:
URL:https://www.soral.ch/evenement/conseil-municipal-4/
LOCATION:Mairie
END:VEVENT
BEGIN:VEVENT
DTSTART;VALUE=DATE:20220611
DTEND;VALUE=DATE:20220612
DTSTAMP:20260419T151849
CREATED:20220402T081215Z
LAST-MODIFIED:20220402T081215Z
UID:4723-1654905600-1654991999@www.soral.ch
SUMMARY:Tournoi populaire de pétanque
DESCRIPTION:Organisé par les Boules de Soral
URL:https://www.soral.ch/evenement/tournoi-populaire-de-petanque/
LOCATION:Club de pétanque
END:VEVENT
BEGIN:VEVENT
DTSTART;TZID=Europe/Paris:20220607T140000
DTEND;TZID=Europe/Paris:20220607T163000
DTSTAMP:20260419T151849
CREATED:20220422T100559Z
LAST-MODIFIED:20220422T101152Z
UID:4749-1654610400-1654619400@www.soral.ch
SUMMARY:Dessiner au jardin - La rides des plantes
DESCRIPTION:Inscriptions et informations : \ninfo@dessin-nomade.ch ou  au 078 886 92 93
URL:https://www.soral.ch/evenement/dessiner-au-jardin-la-rides-des-plantes/
LOCATION:La Fermette
END:VEVENT
BEGIN:VEVENT
DTSTART;TZID=Europe/Paris:20220602T200000
DTEND;TZID=Europe/Paris:20220602T223000
DTSTAMP:20260419T151849
CREATED:20210906T093407Z
LAST-MODIFIED:20210906T093407Z
UID:4460-1654200000-1654209000@www.soral.ch
SUMMARY:Ciné Soral - Un condamné à mort s'est échappé
DESCRIPTION:
URL:https://www.soral.ch/evenement/cine-soral-un-condamne-a-mort-sest-echappe/
LOCATION:Salle Communale
END:VEVENT
BEGIN:VEVENT
DTSTART;TZID=Europe/Paris:20220531T140000
DTEND;TZID=Europe/Paris:20220531T163000
DTSTAMP:20260419T151849
CREATED:20220422T100444Z
LAST-MODIFIED:20220422T100444Z
UID:4747-1654005600-1654014600@www.soral.ch
SUMMARY:Dessiner au jardin - Ciel en pastelles
DESCRIPTION:Inscriptions et informations : \ninfo@dessin-nomade.ch ou  au 078 886 92 93
URL:https://www.soral.ch/evenement/dessiner-au-jardin-ciel-en-pastelles/
LOCATION:La Fermette
END:VEVENT
BEGIN:VEVENT
DTSTART;VALUE=DATE:20220528
DTEND;VALUE=DATE:20220529
DTSTAMP:20260419T151849
CREATED:20211118T190251Z
LAST-MODIFIED:20220223T172840Z
UID:4586-1653696000-1653782399@www.soral.ch
SUMMARY:Sanglier organisé par les pompiers
DESCRIPTION:
URL:https://www.soral.ch/evenement/sanglier-organise-par-les-pompiers/
LOCATION:Parc de la Mairie
END:VEVENT
BEGIN:VEVENT
DTSTART;TZID=Europe/Paris:20220524T200000
DTEND;TZID=Europe/Paris:20220524T200000
DTSTAMP:20260419T151849
CREATED:20220307T104114Z
LAST-MODIFIED:20220307T104114Z
UID:4682-1653422400-1653422400@www.soral.ch
SUMMARY:DIRE ET LIRE - Drôle ? Vous avez dit drôle ?
DESCRIPTION:
URL:https://www.soral.ch/evenement/dire-et-lire-drole-vous-avez-dit-drole/
LOCATION:Salle de la Paroisse
END:VEVENT
BEGIN:VEVENT
DTSTART;TZID=Europe/Paris:20220524T140000
DTEND;TZID=Europe/Paris:20220524T163000
DTSTAMP:20260419T151849
CREATED:20220422T100347Z
LAST-MODIFIED:20220422T101022Z
UID:4745-1653400800-1653409800@www.soral.ch
SUMMARY:Dessiner au jardin - Pousses au vert
DESCRIPTION:Inscriptions et informations : \ninfo@dessin-nomade.ch ou  au 078 886 92 93
URL:https://www.soral.ch/evenement/dessiner-au-jardin-pousses-au-vert/
LOCATION:La Fermette
END:VEVENT
BEGIN:VEVENT
DTSTART;TZID=Europe/Paris:20220519T183000
DTEND;TZID=Europe/Paris:20220519T183000
DTSTAMP:20260419T151849
CREATED:20220406T041118Z
LAST-MODIFIED:20220406T041118Z
UID:4733-1652985000-1652985000@www.soral.ch
SUMMARY:Soirée accueil nouveaux habitants
DESCRIPTION:
URL:https://www.soral.ch/evenement/soiree-accueil-nouveaux-habitants/
LOCATION:Parc de la Mairie
END:VEVENT
BEGIN:VEVENT
DTSTART;VALUE=DATE:20220519
DTEND;VALUE=DATE:20220520
DTSTAMP:20260419T151849
CREATED:20220304T171110Z
LAST-MODIFIED:20220304T171117Z
UID:4649-1652918400-1653004799@www.soral.ch
SUMMARY:Levées encombrants
DESCRIPTION:
URL:https://www.soral.ch/evenement/levees-encombrants/
LOCATION:Village
END:VEVENT
BEGIN:VEVENT
DTSTART;VALUE=DATE:20220518
DTEND;VALUE=DATE:20220519
DTSTAMP:20260419T151849
CREATED:20220307T104003Z
LAST-MODIFIED:20220307T104003Z
UID:4680-1652832000-1652918399@www.soral.ch
SUMMARY:DIRE ET LIRE - Journée suisse de la lecture à haute voix
DESCRIPTION:
URL:https://www.soral.ch/evenement/dire-et-lire-journee-suisse-de-la-lecture-a-haute-voix/
END:VEVENT
BEGIN:VEVENT
DTSTART;TZID=Europe/Paris:20220517T140000
DTEND;TZID=Europe/Paris:20220517T163000
DTSTAMP:20260419T151849
CREATED:20220422T100237Z
LAST-MODIFIED:20220422T100912Z
UID:4743-1652796000-1652805000@www.soral.ch
SUMMARY:Dessiner au Jardin - Contours Multiformes
DESCRIPTION:Inscriptions et informations : \ninfo@dessin-nomade.ch ou  au 078 886 92 93 \n 
URL:https://www.soral.ch/evenement/dessiner-au-jardin-contours-multiformes/
LOCATION:La Fermette
END:VEVENT
BEGIN:VEVENT
DTSTART;TZID=Europe/Paris:20220515T170000
DTEND;TZID=Europe/Paris:20220515T170000
DTSTAMP:20260419T151849
CREATED:20220503T103400Z
LAST-MODIFIED:20220503T103400Z
UID:4779-1652634000-1652634000@www.soral.ch
SUMMARY:Spectacle de l'atelier théâtre
DESCRIPTION:L’APESL en collaboration avec les élèves de Mme Ambre Armici
URL:https://www.soral.ch/evenement/spectacle-de-latelier-theatre/
LOCATION:Salle Communale
END:VEVENT
BEGIN:VEVENT
DTSTART;TZID=Europe/Paris:20220514T100000
DTEND;TZID=Europe/Paris:20220514T160000
DTSTAMP:20260419T151849
CREATED:20220304T163753Z
LAST-MODIFIED:20220304T163753Z
UID:4644-1652522400-1652544000@www.soral.ch
SUMMARY:Journée atelier réparation vélo
DESCRIPTION:La commune vous offre une réparation GRATUITE de votre vélo (pièces de rechange à votre charge).
URL:https://www.soral.ch/evenement/journee-atelier-reparation-velo/
LOCATION:Terrain de football
END:VEVENT
BEGIN:VEVENT
DTSTART;TZID=Europe/Paris:20220511T200000
DTEND;TZID=Europe/Paris:20220511T200000
DTSTAMP:20260419T151849
CREATED:20220506T040931Z
LAST-MODIFIED:20220506T040931Z
UID:4795-1652299200-1652299200@www.soral.ch
SUMMARY:Film Demain Genève en présence des réalisateurs
DESCRIPTION:La projection du film sera suivie d’un débat et d’une présentation de diverses initiative locales
URL:https://www.soral.ch/evenement/film-demain-geneve-en-presence-des-realisateurs/
LOCATION:Salle Communale
END:VEVENT
BEGIN:VEVENT
DTSTART;TZID=Europe/Paris:20220509T183000
DTEND;TZID=Europe/Paris:20220509T183000
DTSTAMP:20260419T151849
CREATED:20220304T171813Z
LAST-MODIFIED:20220304T172631Z
UID:4659-1652121000-1652121000@www.soral.ch
SUMMARY:Conseil municipal
DESCRIPTION:
URL:https://www.soral.ch/evenement/conseil-municipal-3/
LOCATION:Mairie
END:VEVENT
BEGIN:VEVENT
DTSTART;TZID=Europe/Paris:20220427T150000
DTEND;TZID=Europe/Paris:20220427T160000
DTSTAMP:20260419T151849
CREATED:20220421T181048Z
LAST-MODIFIED:20220422T101425Z
UID:4740-1651071600-1651075200@www.soral.ch
SUMMARY:Chasse aux oeufs - Résidence de la Champagne
DESCRIPTION:Uniquement sur inscription au : 022 756 94 55
URL:https://www.soral.ch/evenement/chasse-aux-oeufs-residence-de-la-champagne/
LOCATION:EMS
END:VEVENT
BEGIN:VEVENT
DTSTART;TZID=Europe/Paris:20220425T183000
DTEND;TZID=Europe/Paris:20220425T183000
DTSTAMP:20260419T151849
CREATED:20220304T171619Z
LAST-MODIFIED:20220304T172549Z
UID:4657-1650911400-1650911400@www.soral.ch
SUMMARY:Conseil municipal
DESCRIPTION:
URL:https://www.soral.ch/evenement/conseil-municipal-2/
LOCATION:Mairie
END:VEVENT
BEGIN:VEVENT
DTSTART;TZID=Europe/Paris:20220409T180000
DTEND;TZID=Europe/Paris:20220409T180000
DTSTAMP:20260419T151849
CREATED:20220319T083250Z
LAST-MODIFIED:20220319T083300Z
UID:4715-1649527200-1649527200@www.soral.ch
SUMMARY:Rock'n Truck Festival
DESCRIPTION:Lenny Kravitz Tribute Band  par les jeunes talents : Eagle Keys
URL:https://www.soral.ch/evenement/rockn-truck-festival/
LOCATION:Salle Communale
END:VEVENT
BEGIN:VEVENT
DTSTART;TZID=Europe/Paris:20220409T100000
DTEND;TZID=Europe/Paris:20220409T160000
DTSTAMP:20260419T151849
CREATED:20220402T080818Z
LAST-MODIFIED:20220402T080818Z
UID:4720-1649498400-1649520000@www.soral.ch
SUMMARY:Journée de l'Oeuf
DESCRIPTION:Décoration et chasse aux œufs dans le jardin. \nBuvette et petite restauration (crèpe\, omelette) sur place.
URL:https://www.soral.ch/evenement/journee-de-loeuf/
LOCATION:Domaine Stéphane Dupraz
END:VEVENT
BEGIN:VEVENT
DTSTART;TZID=Europe/Paris:20220407T200000
DTEND;TZID=Europe/Paris:20220407T223000
DTSTAMP:20260419T151849
CREATED:20210906T093141Z
LAST-MODIFIED:20210906T093141Z
UID:4458-1649361600-1649370600@www.soral.ch
SUMMARY:Ciné Soral - Il postino
DESCRIPTION:
URL:https://www.soral.ch/evenement/cine-soral-il-postino/
LOCATION:Salle Communale
END:VEVENT
BEGIN:VEVENT
DTSTART;TZID=Europe/Paris:20220402T140000
DTEND;TZID=Europe/Paris:20220402T223000
DTSTAMP:20260419T151849
CREATED:20220304T163535Z
LAST-MODIFIED:20220304T163549Z
UID:4641-1648908000-1648938600@www.soral.ch
SUMMARY:Journée porte ouverte école de musique ETM - Soral
DESCRIPTION:
URL:https://www.soral.ch/evenement/journee-porte-ouverte-ecole-de-musique-etm-soral/
LOCATION:Gîte de l’ETM
END:VEVENT
BEGIN:VEVENT
DTSTART;VALUE=DATE:20220326
DTEND;VALUE=DATE:20220327
DTSTAMP:20260419T151849
CREATED:20220316T064926Z
LAST-MODIFIED:20220316T064926Z
UID:4705-1648252800-1648339199@www.soral.ch
SUMMARY:Soirée Flammekueche
DESCRIPTION:Réservation et plus d’infos au 022 756 02 97
URL:https://www.soral.ch/evenement/soiree-flammekueche/
LOCATION:Père Jakob
END:VEVENT
BEGIN:VEVENT
DTSTART;TZID=Europe/Paris:20220323T153000
DTEND;TZID=Europe/Paris:20220323T153000
DTSTAMP:20260419T151849
CREATED:20220319T083512Z
LAST-MODIFIED:20220319T083512Z
UID:4717-1648049400-1648049400@www.soral.ch
SUMMARY:Fête du bonhomme d'hiver
DESCRIPTION:Organisé par la Fermette et l’APESL
URL:https://www.soral.ch/evenement/fete-du-bonhomme-dhiver/
LOCATION:La Fermette
END:VEVENT
BEGIN:VEVENT
DTSTART;TZID=Europe/Paris:20220322T200000
DTEND;TZID=Europe/Paris:20220322T200000
DTSTAMP:20260419T151849
CREATED:20220307T103843Z
LAST-MODIFIED:20220307T103843Z
UID:4678-1647979200-1647979200@www.soral.ch
SUMMARY:DIRE ET LIRE - Au pays des mages\, des druides\, des féées et autres
DESCRIPTION:
URL:https://www.soral.ch/evenement/dire-et-lire-au-pays-des-mages-des-druides-des-feees-et-autres/
LOCATION:Salle de la Paroisse
END:VEVENT
BEGIN:VEVENT
DTSTART;TZID=Europe/Paris:20220307T183000
DTEND;TZID=Europe/Paris:20220307T183000
DTSTAMP:20260419T151849
CREATED:20220304T171521Z
LAST-MODIFIED:20220304T172305Z
UID:4655-1646677800-1646677800@www.soral.ch
SUMMARY:Conseil municipal
DESCRIPTION:
URL:https://www.soral.ch/evenement/conseil-municipal/
LOCATION:Mairie
END:VEVENT
BEGIN:VEVENT
DTSTART;TZID=Europe/Paris:20220303T200000
DTEND;TZID=Europe/Paris:20220303T223000
DTSTAMP:20260419T151849
CREATED:20210906T093026Z
LAST-MODIFIED:20210906T093026Z
UID:4456-1646337600-1646346600@www.soral.ch
SUMMARY:Ciné Soral - Le nom de la rose
DESCRIPTION:
URL:https://www.soral.ch/evenement/cine-soral-le-nom-de-la-rose/
LOCATION:Salle Communale
END:VEVENT
BEGIN:VEVENT
DTSTART;VALUE=DATE:20220204
DTEND;VALUE=DATE:20220207
DTSTAMP:20260419T151849
CREATED:20210906T095558Z
LAST-MODIFIED:20210906T102048Z
UID:4472-1643932800-1644191999@www.soral.ch
SUMMARY:Concert de l'association Rock & Truck
DESCRIPTION:Le concert du 5 février sera diffusé en direct sur le net
URL:https://www.soral.ch/evenement/soiree-de-soutien-de-lassociation-rock-truck/
LOCATION:Salle & Taverne
END:VEVENT
END:VCALENDAR