BEGIN:VCALENDAR
VERSION:2.0
PRODID:-//Mairie de Soral - ECPv6.15.20//NONSGML v1.0//EN
CALSCALE:GREGORIAN
METHOD:PUBLISH
X-WR-CALNAME:Mairie de Soral
X-ORIGINAL-URL:https://www.soral.ch
X-WR-CALDESC:Évènements pour Mairie de Soral
REFRESH-INTERVAL;VALUE=DURATION:PT1H
X-Robots-Tag:noindex
X-PUBLISHED-TTL:PT1H
BEGIN:VTIMEZONE
TZID:Europe/Paris
BEGIN:DAYLIGHT
TZOFFSETFROM:+0100
TZOFFSETTO:+0200
TZNAME:CEST
DTSTART:20190331T010000
END:DAYLIGHT
BEGIN:STANDARD
TZOFFSETFROM:+0200
TZOFFSETTO:+0100
TZNAME:CET
DTSTART:20191027T010000
END:STANDARD
BEGIN:DAYLIGHT
TZOFFSETFROM:+0100
TZOFFSETTO:+0200
TZNAME:CEST
DTSTART:20200329T010000
END:DAYLIGHT
BEGIN:STANDARD
TZOFFSETFROM:+0200
TZOFFSETTO:+0100
TZNAME:CET
DTSTART:20201025T010000
END:STANDARD
BEGIN:DAYLIGHT
TZOFFSETFROM:+0100
TZOFFSETTO:+0200
TZNAME:CEST
DTSTART:20210328T010000
END:DAYLIGHT
BEGIN:STANDARD
TZOFFSETFROM:+0200
TZOFFSETTO:+0100
TZNAME:CET
DTSTART:20211031T010000
END:STANDARD
BEGIN:DAYLIGHT
TZOFFSETFROM:+0100
TZOFFSETTO:+0200
TZNAME:CEST
DTSTART:20220327T010000
END:DAYLIGHT
BEGIN:STANDARD
TZOFFSETFROM:+0200
TZOFFSETTO:+0100
TZNAME:CET
DTSTART:20221030T010000
END:STANDARD
BEGIN:DAYLIGHT
TZOFFSETFROM:+0100
TZOFFSETTO:+0200
TZNAME:CEST
DTSTART:20230326T010000
END:DAYLIGHT
BEGIN:STANDARD
TZOFFSETFROM:+0200
TZOFFSETTO:+0100
TZNAME:CET
DTSTART:20231029T010000
END:STANDARD
END:VTIMEZONE
BEGIN:VEVENT
DTSTART;TZID=Europe/Paris:20220203T200000
DTEND;TZID=Europe/Paris:20220203T223000
DTSTAMP:20260419T195911
CREATED:20210906T092848Z
LAST-MODIFIED:20210906T092900Z
UID:4453-1643918400-1643927400@www.soral.ch
SUMMARY:Ciné Soral - Impitoyable
DESCRIPTION:
URL:https://www.soral.ch/evenement/cine-soral-impitoyable/
LOCATION:Salle Communale
END:VEVENT
BEGIN:VEVENT
DTSTART;TZID=Europe/Paris:20220113T200000
DTEND;TZID=Europe/Paris:20220113T223000
DTSTAMP:20260419T195911
CREATED:20210903T085006Z
LAST-MODIFIED:20210903T085006Z
UID:4449-1642104000-1642113000@www.soral.ch
SUMMARY:Ciné Soral - Amadeus
DESCRIPTION:
URL:https://www.soral.ch/evenement/cine-soral-amadeus/
LOCATION:Salle Communale
END:VEVENT
BEGIN:VEVENT
DTSTART;VALUE=DATE:20211219
DTEND;VALUE=DATE:20211220
DTSTAMP:20260419T195911
CREATED:20211101T183118Z
LAST-MODIFIED:20211101T184925Z
UID:4564-1639872000-1639958399@www.soral.ch
SUMMARY:Noël des Ainés
DESCRIPTION:
URL:https://www.soral.ch/evenement/noel-des-aines-3/
LOCATION:Salle Communale
END:VEVENT
BEGIN:VEVENT
DTSTART;VALUE=DATE:20211215
DTEND;VALUE=DATE:20211216
DTSTAMP:20260419T195911
CREATED:20211101T184231Z
LAST-MODIFIED:20211101T184231Z
UID:4568-1639526400-1639612799@www.soral.ch
SUMMARY:Noël à l'EMS
DESCRIPTION:
URL:https://www.soral.ch/evenement/noel-a-lems/
LOCATION:EMS
END:VEVENT
BEGIN:VEVENT
DTSTART;TZID=Europe/Paris:20211214T200000
DTEND;TZID=Europe/Paris:20211214T220000
DTSTAMP:20260419T195911
CREATED:20211101T184809Z
LAST-MODIFIED:20211101T184809Z
UID:4570-1639512000-1639519200@www.soral.ch
SUMMARY:Concert de Noël
DESCRIPTION:Trio (piano\, contrebasse et percussions). Que des airs connus de Noël
URL:https://www.soral.ch/evenement/concert-de-noel/
LOCATION:Eglise
END:VEVENT
BEGIN:VEVENT
DTSTART;VALUE=DATE:20211124
DTEND;VALUE=DATE:20211213
DTSTAMP:20260419T195911
CREATED:20200911T105634Z
LAST-MODIFIED:20210514T090911Z
UID:4006-1637712000-1639353599@www.soral.ch
SUMMARY:Les Tréteaux de la Fontaine - L'âge d'Or
DESCRIPTION:Troupe de théâtre \n 
URL:https://www.soral.ch/evenement/les-treteaux-de-la-fontaine/
LOCATION:Salle Communale
CATEGORIES:Théâtre
END:VEVENT
BEGIN:VEVENT
DTSTART;TZID=Europe/Paris:20211120T100000
DTEND;TZID=Europe/Paris:20211120T120000
DTSTAMP:20260419T195911
CREATED:20211101T183933Z
LAST-MODIFIED:20211101T183933Z
UID:4566-1637402400-1637409600@www.soral.ch
SUMMARY:Atelier découverte du monde agricole et de sa biodiversité
DESCRIPTION:La commune de Soral et l’Association du Réseau agro-environnemental de\nChampagne ont le plaisir de convier la population soralienne à un atelier de\ndécouverte du monde agricole et de sa biodiversité.\nRendez-vous le samedi 20 novembre à 10h00 à la Fermette (Route des Lolliets 39\,\n1286 Soral)\nDurée\, environ 1h30\nLa matinée se terminera par un moment de partage et de convivialité autour des\nproduits du terroirs.\nPour toute information complémentaire\, merci de contacter Nicolas Amann (076\n615 32 63) ou Raphaël Dunand (078 600 07 47
URL:https://www.soral.ch/evenement/atelier-decouverte-du-monde-agricole-et-de-sa-biodiversite/
LOCATION:La Fermette
END:VEVENT
BEGIN:VEVENT
DTSTART;TZID=Europe/Paris:20211107T163000
DTEND;TZID=Europe/Paris:20211107T163000
DTSTAMP:20260419T195911
CREATED:20210903T084851Z
LAST-MODIFIED:20210906T092719Z
UID:4447-1636302600-1636302600@www.soral.ch
SUMMARY:Ciné Famille - Spécial Tex Avery
DESCRIPTION:Les infos détaillées sur le programme de la journée suivront
URL:https://www.soral.ch/evenement/cine-soral-famille-special-tex-avery/
LOCATION:Salle Communale
END:VEVENT
BEGIN:VEVENT
DTSTART;VALUE=DATE:20211009
DTEND;VALUE=DATE:20211010
DTSTAMP:20260419T195911
CREATED:20210903T084106Z
LAST-MODIFIED:20210903T084106Z
UID:4441-1633737600-1633823999@www.soral.ch
SUMMARY:Journée des brasseries ouvertes
DESCRIPTION:
URL:https://www.soral.ch/evenement/journee-des-brasseries-ouvertes/
END:VEVENT
BEGIN:VEVENT
DTSTART;TZID=Europe/Paris:20211007T200000
DTEND;TZID=Europe/Paris:20211007T223000
DTSTAMP:20260419T195911
CREATED:20210903T084551Z
LAST-MODIFIED:20210903T084551Z
UID:4445-1633636800-1633645800@www.soral.ch
SUMMARY:Ciné Soral - Adults in the room
DESCRIPTION:
URL:https://www.soral.ch/evenement/cine-soral-adults-in-the-room/
LOCATION:Salle Communale
END:VEVENT
BEGIN:VEVENT
DTSTART;TZID=Europe/Paris:20211002T190000
DTEND;TZID=Europe/Paris:20211002T230000
DTSTAMP:20260419T195911
CREATED:20210906T094008Z
LAST-MODIFIED:20210906T094008Z
UID:4464-1633201200-1633215600@www.soral.ch
SUMMARY:Soirée d'observation avec le club d'astronomie
DESCRIPTION:Informations suivront
URL:https://www.soral.ch/evenement/soiree-dobservation-avec-le-club-dastronomie/
LOCATION:Village
END:VEVENT
BEGIN:VEVENT
DTSTART;TZID=Europe/Paris:20210926T090000
DTEND;TZID=Europe/Paris:20210926T120000
DTSTAMP:20260419T195911
CREATED:20210629T135347Z
LAST-MODIFIED:20210629T135347Z
UID:4391-1632646800-1632657600@www.soral.ch
SUMMARY:Matinée "Plogging"
DESCRIPTION:Ramassage des déchets dans la commune
URL:https://www.soral.ch/evenement/matinee-plogging/
LOCATION:Parc de la Mairie
END:VEVENT
BEGIN:VEVENT
DTSTART;VALUE=DATE:20210924
DTEND;VALUE=DATE:20210925
DTSTAMP:20260419T195911
CREATED:20210903T083900Z
LAST-MODIFIED:20210903T083900Z
UID:4439-1632441600-1632527999@www.soral.ch
SUMMARY:Fanfare du loup
DESCRIPTION:
URL:https://www.soral.ch/evenement/fanfare-du-loup/
LOCATION:Père Jakob
END:VEVENT
BEGIN:VEVENT
DTSTART;VALUE=DATE:20210917
DTEND;VALUE=DATE:20211004
DTSTAMP:20260419T195911
CREATED:20210912T103301Z
LAST-MODIFIED:20210912T103301Z
UID:4481-1631836800-1633305599@www.soral.ch
SUMMARY:Exposition d'Arlette Aubort
DESCRIPTION:Ven : 18h à 20h  –  Sam/Dim 14h à 18h \n 
URL:https://www.soral.ch/evenement/exposition-darlette-aubort/
LOCATION:FMR
END:VEVENT
BEGIN:VEVENT
DTSTART;TZID=Europe/Paris:20210902T200000
DTEND;TZID=Europe/Paris:20210902T223000
DTSTAMP:20260419T195911
CREATED:20210903T084450Z
LAST-MODIFIED:20210903T084450Z
UID:4443-1630612800-1630621800@www.soral.ch
SUMMARY:Ciné Soral - Les naufragés de l'Ile de la Tortue
DESCRIPTION:
URL:https://www.soral.ch/evenement/cine-soral-les-naufrages-de-lile-de-la-tortue/
LOCATION:Salle Communale
END:VEVENT
BEGIN:VEVENT
DTSTART;VALUE=DATE:20210827
DTEND;VALUE=DATE:20210828
DTSTAMP:20260419T195911
CREATED:20210306T182510Z
LAST-MODIFIED:20210513T085500Z
UID:4230-1630022400-1630108799@www.soral.ch
SUMMARY:Journée porte ouverte école de musique ETM - Soral
DESCRIPTION:
URL:https://www.soral.ch/evenement/journee-porte-ouverte-ecole-de-musique-etm/
LOCATION:Gîte de l’ETM
END:VEVENT
BEGIN:VEVENT
DTSTART;VALUE=DATE:20210801
DTEND;VALUE=DATE:20210802
DTSTAMP:20260419T195911
CREATED:20200919T103404Z
LAST-MODIFIED:20200919T113440Z
UID:4055-1627776000-1627862399@www.soral.ch
SUMMARY:FÊTE NATIONALE
DESCRIPTION:
URL:https://www.soral.ch/evenement/fete-national/
LOCATION:Terrain de football
CATEGORIES:Manifestation & Sports
END:VEVENT
BEGIN:VEVENT
DTSTART;VALUE=DATE:20210702
DTEND;VALUE=DATE:20210703
DTSTAMP:20260419T195911
CREATED:20200911T110918Z
LAST-MODIFIED:20200922T162308Z
UID:4013-1625184000-1625270399@www.soral.ch
SUMMARY:Promotion à Soral
DESCRIPTION:
URL:https://www.soral.ch/evenement/promotion-a-soral/
LOCATION:Terrain de football
CATEGORIES:Manifestation & Sports
END:VEVENT
BEGIN:VEVENT
DTSTART;VALUE=DATE:20210628
DTEND;VALUE=DATE:20210703
DTSTAMP:20260419T195911
CREATED:20210306T181319Z
LAST-MODIFIED:20210306T181319Z
UID:4228-1624838400-1625270399@www.soral.ch
SUMMARY:Stage de sculpture sur pierre
DESCRIPTION:
URL:https://www.soral.ch/evenement/stage-de-sculpture-sur-pierre-2/
LOCATION:Jo Fontaine
END:VEVENT
BEGIN:VEVENT
DTSTART;VALUE=DATE:20210626
DTEND;VALUE=DATE:20210627
DTSTAMP:20260419T195911
CREATED:20200911T110151Z
LAST-MODIFIED:20210306T181712Z
UID:4009-1624665600-1624751999@www.soral.ch
SUMMARY:Fête des Jeunes
DESCRIPTION:
URL:https://www.soral.ch/evenement/fete-des-jeunes/
CATEGORIES:Manifestation & Sports
END:VEVENT
BEGIN:VEVENT
DTSTART;VALUE=DATE:20210621
DTEND;VALUE=DATE:20210626
DTSTAMP:20260419T195911
CREATED:20210306T181212Z
LAST-MODIFIED:20210306T181212Z
UID:4225-1624233600-1624665599@www.soral.ch
SUMMARY:Stage de sculpture sur pierre
DESCRIPTION:
URL:https://www.soral.ch/evenement/stage-de-sculpture-sur-pierre/
LOCATION:Jo Fontaine
END:VEVENT
BEGIN:VEVENT
DTSTART;TZID=Europe/Paris:20210605T100000
DTEND;TZID=Europe/Paris:20210605T140000
DTSTAMP:20260419T195911
CREATED:20210513T091739Z
LAST-MODIFIED:20210513T091739Z
UID:4347-1622887200-1622901600@www.soral.ch
SUMMARY:Journée atelier réparation vélo + Food Truck
DESCRIPTION:La commune vous offre une réparation GRATUITE de votre vélo (pièces de rechange à votre charge). \n 
URL:https://www.soral.ch/evenement/journee-atelier-reparation-velo-food-truck/
LOCATION:Terrain de football
END:VEVENT
BEGIN:VEVENT
DTSTART;VALUE=DATE:20210529
DTEND;VALUE=DATE:20210530
DTSTAMP:20260419T195911
CREATED:20210504T082839Z
LAST-MODIFIED:20210504T082839Z
UID:4339-1622246400-1622332799@www.soral.ch
SUMMARY:Troc de jouets
DESCRIPTION:
URL:https://www.soral.ch/evenement/troc-de-jouets/
LOCATION:La Fermette
END:VEVENT
BEGIN:VEVENT
DTSTART;VALUE=DATE:20210521
DTEND;VALUE=DATE:20210522
DTSTAMP:20260419T195911
CREATED:20210212T115006Z
LAST-MODIFIED:20210212T115006Z
UID:4209-1621555200-1621641599@www.soral.ch
SUMMARY:La nuit est belle
DESCRIPTION:Extinction des lumières dans la commune + ateliers découvertes
URL:https://www.soral.ch/evenement/la-nuit-est-belle/
LOCATION:Village
END:VEVENT
BEGIN:VEVENT
DTSTART;TZID=Europe/Paris:20210505T183000
DTEND;TZID=Europe/Paris:20210505T220000
DTSTAMP:20260419T195911
CREATED:20210501T102810Z
LAST-MODIFIED:20210504T083211Z
UID:4315-1620239400-1620252000@www.soral.ch
SUMMARY:Les Boules de Soral
DESCRIPTION:Réouverture
URL:https://www.soral.ch/evenement/les-boules-de-soral/
LOCATION:Club de pétanque
END:VEVENT
BEGIN:VEVENT
DTSTART;VALUE=DATE:20210424
DTEND;VALUE=DATE:20210425
DTSTAMP:20260419T195911
CREATED:20210422T073116Z
LAST-MODIFIED:20210422T073116Z
UID:4281-1619222400-1619308799@www.soral.ch
SUMMARY:La Guinguette de Soral
DESCRIPTION:*****NOUVEAU***** \nLisa & Sandro sont heureux de vous accueillir dans leurs nouvel espace la Guinguette situé sur le site de la Fermette. \nIls vous proposent des crêpes et galettes bretonnes dès 11h30 jusqu’à 21h30. \nAu plaisir de vous rencontrer. \nKENAVO
URL:https://www.soral.ch/evenement/la-guinguette-de-soral/
LOCATION:La Fermette
END:VEVENT
BEGIN:VEVENT
DTSTART;VALUE=DATE:20201010
DTEND;VALUE=DATE:20201011
DTSTAMP:20260419T195911
CREATED:20200919T075706Z
LAST-MODIFIED:20200919T104959Z
UID:4028-1602288000-1602374399@www.soral.ch
SUMMARY:Matinée PAM (prévention anti-morsure) + démo maître chiens
DESCRIPTION:
URL:https://www.soral.ch/evenement/matinee-pam-prevention-anti-morsure-demo-maitre-chiens/
LOCATION:Terrain de football
END:VEVENT
BEGIN:VEVENT
DTSTART;VALUE=DATE:20201009
DTEND;VALUE=DATE:20201010
DTSTAMP:20260419T195911
CREATED:20200924T033509Z
LAST-MODIFIED:20200924T033509Z
UID:4085-1602201600-1602287999@www.soral.ch
SUMMARY:FOOD TRUCK - GALETTES & CREPES BRETONNES
DESCRIPTION:
URL:https://www.soral.ch/evenement/food-truck-galettes-crepes-bretonnes-3/
LOCATION:La Fermette
CATEGORIES:Évènement hors commission
END:VEVENT
BEGIN:VEVENT
DTSTART;VALUE=DATE:20201003
DTEND;VALUE=DATE:20201004
DTSTAMP:20260419T195911
CREATED:20200921T134026Z
LAST-MODIFIED:20200921T134026Z
UID:4074-1601683200-1601769599@www.soral.ch
SUMMARY:JOURNEE PARTICIPATIVE
DESCRIPTION:Journée participative au démantèlement du couvert et à la création d’une fresque
URL:https://www.soral.ch/evenement/journee-participative/
LOCATION:La Fermette
CATEGORIES:Évènement hors commission
END:VEVENT
BEGIN:VEVENT
DTSTART;TZID=Europe/Paris:20201002T180000
DTEND;TZID=Europe/Paris:20201002T220000
DTSTAMP:20260419T195911
CREATED:20200929T095929Z
LAST-MODIFIED:20200929T095929Z
UID:4107-1601661600-1601676000@www.soral.ch
SUMMARY:Cours de cuisine Paella & Co
DESCRIPTION:Contactez laura.j@faehndrich.info ou téléphoner au 079 508 60 24 pour vous inscrire et/ou pour plus de renseignements
URL:https://www.soral.ch/evenement/cours-de-cuisine-paella-co/
LOCATION:FMR
CATEGORIES:Évènement hors commission
END:VEVENT
END:VCALENDAR